BEGIN:VCALENDAR
VERSION:2.0
PRODID:-//ChamberMaster//Event Calendar 2.0//EN
METHOD:PUBLISH
X-PUBLISHED-TTL:P1H
REFRESH-INTERVAL:P1H
CALSCALE:GREGORIAN
BEGIN:VTIMEZONE
TZID:America/New_York
BEGIN:DAYLIGHT
RRULE:FREQ=YEARLY;BYMONTH=3;BYDAY=2SU
DTSTART:20070101T000000
TZOFFSETFROM:-0500
TZOFFSETTO:-0400
TZNAME:Eastern Daylight Time
END:DAYLIGHT
BEGIN:STANDARD
RRULE:FREQ=YEARLY;BYMONTH=11;BYDAY=1SU
DTSTART:20070101T000000
TZOFFSETFROM:-0400
TZOFFSETTO:-0500
TZNAME:Eastern Standard Time
END:STANDARD
END:VTIMEZONE
BEGIN:VEVENT
DTSTART;TZID=America/New_York:20260424T140000
DTEND;TZID=America/New_York:20260424T143000
X-MICROSOFT-CDO-ALLDAYEVENT:FALSE
SUMMARY:J-Town Hardware & Rental Ribbon Cutting
DESCRIPTION:Join us in celebrating the grand re-opening of J-Town Hardware & Rental!
X-ALT-DESC;FMTTYPE=text/html:Join us in celebrating the grand re-opening of J-Town Hardware & Rental!
LOCATION:10513 Watterson Trail Jeffersontown KY 40299
UID:e.3378.1446603
SEQUENCE:3
DTSTAMP:20260422T102630Z
URL:https://chamber.jtownchamber.com/chamber-events/Details/j-town-hardware-rental-ribbon-cutting-1713378?sourceTypeId=Hub
END:VEVENT
END:VCALENDAR
