BEGIN:VCALENDAR
VERSION:2.0
PRODID:-//ChamberMaster//Event Calendar 2.0//EN
METHOD:PUBLISH
X-PUBLISHED-TTL:P1H
REFRESH-INTERVAL:P1H
CALSCALE:GREGORIAN
BEGIN:VTIMEZONE
TZID:America/New_York
BEGIN:DAYLIGHT
RRULE:FREQ=YEARLY;BYMONTH=3;BYDAY=2SU
DTSTART:20070101T000000
TZOFFSETFROM:-0500
TZOFFSETTO:-0400
TZNAME:Eastern Daylight Time
END:DAYLIGHT
BEGIN:STANDARD
RRULE:FREQ=YEARLY;BYMONTH=11;BYDAY=1SU
DTSTART:20070101T000000
TZOFFSETFROM:-0400
TZOFFSETTO:-0500
TZNAME:Eastern Standard Time
END:STANDARD
END:VTIMEZONE
BEGIN:VEVENT
DTSTART;TZID=America/New_York:20260515T083000
DTEND;TZID=America/New_York:20260515T113000
X-MICROSOFT-CDO-ALLDAYEVENT:FALSE
SUMMARY:First Cup Connections ft. Jtown High School's Boat Regatta
DESCRIPTION:Come join us for a very special First Cup Connection. Come cheer on Jeffersontown High School during their annual Boat Regatta. If your company is interested in sponsoring one of the students boats please reach out to Kasey Kraus at kasey@jtownchamber.com.
X-ALT-DESC;FMTTYPE=text/html:<!DOCTYPE html><html><head><title></title></head><body aria-disabled="false"><p>Come join us for a very special First Cup Connection. Come cheer on Jeffersontown High School during their annual Boat Regatta.&nbsp\;</p><p>If your company is interested in sponsoring one of the students boats please reach out to Kasey Kraus at kasey@jtownchamber.com.</p></body></html>
LOCATION:10235 Timberwood Circle Louisville 40223
UID:e.3378.1446614
SEQUENCE:3
DTSTAMP:20260422T095704Z
URL:https://chamber.jtownchamber.com/chamber-events/Details/first-cup-connections-ft-jtown-high-school-s-boat-regatta-1713388?sourceTypeId=Hub
END:VEVENT
END:VCALENDAR
