BEGIN:VCALENDAR
VERSION:2.0
PRODID:-//ChamberMaster//Event Calendar 2.0//EN
METHOD:PUBLISH
X-PUBLISHED-TTL:P1H
REFRESH-INTERVAL:P1H
CALSCALE:GREGORIAN
BEGIN:VTIMEZONE
TZID:America/New_York
BEGIN:DAYLIGHT
RRULE:FREQ=YEARLY;BYMONTH=3;BYDAY=2SU
DTSTART:20070101T000000
TZOFFSETFROM:-0500
TZOFFSETTO:-0400
TZNAME:Eastern Daylight Time
END:DAYLIGHT
BEGIN:STANDARD
RRULE:FREQ=YEARLY;BYMONTH=11;BYDAY=1SU
DTSTART:20070101T000000
TZOFFSETFROM:-0400
TZOFFSETTO:-0500
TZNAME:Eastern Standard Time
END:STANDARD
END:VTIMEZONE
BEGIN:VEVENT
DTSTART;TZID=America/New_York:20260711T160000
DTEND;TZID=America/New_York:20260711T200000
X-MICROSOFT-CDO-ALLDAYEVENT:FALSE
SUMMARY:2026 The Big Pour Jtown
DESCRIPTION:The Big Pour Jtown takes place in the heart of downtown Jeffersontown. Featuring local and national craft breweries\, the "BEYOND BEER BAR" Seltzer Bar\, wine from Oliver Winery\, food trucks\, and local vendors\, plus live music. MUST be 21+ to attend. No pets. Rain or Shine event.Vendor Booth Registration Includes:(1) 10x10 Booth Space  2 Vendor Passes  (1) non-dedicated social media post or story thanking all Community SupportersVendor Plus Booth Registration Includes:(1) 10x10 Booth Space4 Vendor PassesCurated Beer Pairing to drive traffic to your area (your team handles pouring)(1) non-dedicated social media post or story thanking all Community Supporters
X-ALT-DESC;FMTTYPE=text/html:<!DOCTYPE html><html><head><title></title></head><body aria-disabled="false"><p style="box-sizing: border-box\; margin: 0px 0px 1rem\; padding: 0px\; border: 0px\; outline: 0px\; font-variant-ligatures: normal\; font-variant-caps: normal\; font-variant-numeric: inherit\; font-variant-east-asian: inherit\; font-variant-alternates: inherit\; font-variant-position: inherit\; font-variant-emoji: inherit\; font-stretch: inherit\; line-height: inherit\; font-optical-sizing: inherit\; font-size-adjust: inherit\; font-kerning: inherit\; font-feature-settings: inherit\; font-variation-settings: inherit\; font-language-override: inherit\; vertical-align: baseline\; font-family: Urbanist\; font-size: 13px\; font-style: normal\; font-weight: 400\; color: rgb(74\, 74\, 74)\; letter-spacing: normal\; orphans: 2\; text-align: start\; text-indent: 0px\; text-transform: none\; widows: 2\; word-spacing: 0px\; -webkit-text-stroke-width: 0px\; white-space: normal\; background-color: rgb(255\, 255\, 255)\; text-decoration-thickness: initial\; text-decoration-style: initial\; text-decoration-color: initial\;"><span style="font-size: 14px\; font-family: Arial\, Helvetica\, sans-serif\; color: rgb(0\, 0\, 0)\;">The Big Pour Jtown takes place in the heart of downtown Jeffersontown. Featuring local and national craft breweries\, the &quot\;BEYOND BEER BAR&quot\; Seltzer Bar\, wine from Oliver Winery\, food trucks\, and local vendors\, plus live music. MUST be 21+ to attend. No pets. Rain or Shine event.</span></p><p style="box-sizing: border-box\; margin: 0px 0px 1rem\; padding: 0px\; border: 0px\; outline: 0px\; font-variant-ligatures: normal\; font-variant-caps: normal\; font-variant-numeric: inherit\; font-variant-east-asian: inherit\; font-variant-alternates: inherit\; font-variant-position: inherit\; font-variant-emoji: inherit\; font-stretch: inherit\; line-height: inherit\; font-optical-sizing: inherit\; font-size-adjust: inherit\; font-kerning: inherit\; font-feature-settings: inherit\; font-variation-settings: inherit\; font-language-override: inherit\; vertical-align: baseline\; font-family: Urbanist\; font-size: 13px\; font-style: normal\; font-weight: 400\; color: rgb(74\, 74\, 74)\; letter-spacing: normal\; orphans: 2\; text-align: start\; text-indent: 0px\; text-transform: none\; widows: 2\; word-spacing: 0px\; -webkit-text-stroke-width: 0px\; white-space: normal\; background-color: rgb(255\, 255\, 255)\; text-decoration-thickness: initial\; text-decoration-style: initial\; text-decoration-color: initial\;"><span style="color: rgb(0\, 0\, 0)\;"><span style="font-family: Arial\,Helvetica\,sans-serif\;"><span style="font-size: 14px\;"><strong fr-original-style="box-sizing: border-box\; margin: 0px\; padding: 0px\; border: 0px\; outline: 0px\; font-variant: inherit\; font-stretch: inherit\; line-height: inherit\; font-optical-sizing: inherit\; font-size-adjust: inherit\; font-kerning: inherit\; font-feature-settings: inherit\; font-variation-settings: inherit\; font-language-override: inherit\; vertical-align: baseline\; font-family: inherit\; font-size: 13px\; font-style: inherit\; font-weight: 700\;" style="box-sizing: border-box\; margin: 0px\; padding: 0px\; border: 0px\; outline: 0px\; font-variant: inherit\; font-stretch: inherit\; line-height: inherit\; font-optical-sizing: inherit\; font-size-adjust: inherit\; font-kerning: inherit\; font-feature-settings: inherit\; font-variation-settings: inherit\; font-language-override: inherit\; vertical-align: baseline\; font-family: inherit\; font-size: 13px\; font-style: inherit\; font-weight: 700\;"><u style="box-sizing: border-box\; margin: 0px\; padding: 0px\; border: 0px\; outline: 0px\; font-variant: inherit\; font-stretch: inherit\; line-height: inherit\; font-optical-sizing: inherit\; font-size-adjust: inherit\; font-kerning: inherit\; font-feature-settings: inherit\; font-variation-settings: inherit\; font-language-override: inherit\; vertical-align: baseline\; font-family: inherit\; font-size: 13px\; font-style: inherit\; font-weight: inherit\;">Vendor Booth Registration Includes:</u></strong></span></span></span></p><ul fr-original-style="box-sizing: border-box\; margin: 0px 0px 1rem 20px\; padding: 0px\; border: 0px\; outline: 0px\; font-variant-ligatures: normal\; font-variant-caps: normal\; font-variant-numeric: inherit\; font-variant-east-asian: inherit\; font-variant-alternates: inherit\; font-variant-position: inherit\; font-variant-emoji: inherit\; font-stretch: inherit\; line-height: inherit\; font-optical-sizing: inherit\; font-size-adjust: inherit\; font-kerning: inherit\; font-feature-settings: inherit\; font-variation-settings: inherit\; font-language-override: inherit\; vertical-align: baseline\; font-family: Urbanist\; font-size: 13px\; font-style: normal\; font-weight: 400\; color: rgb(74\, 74\, 74)\; letter-spacing: normal\; orphans: 2\; text-align: start\; text-indent: 0px\; text-transform: none\; widows: 2\; word-spacing: 0px\; -webkit-text-stroke-width: 0px\; white-space: normal\; background-color: rgb(255\, 255\, 255)\; text-decoration-thickness: initial\; text-decoration-style: initial\; text-decoration-color: initial\; list-style-position: inside\;" style="box-sizing: border-box\; margin: 0px 0px 1rem 20px\; padding: 0px\; border: 0px\; outline: 0px\; font-variant-ligatures: normal\; font-variant-caps: normal\; font-variant-numeric: inherit\; font-variant-east-asian: inherit\; font-variant-alternates: inherit\; font-variant-position: inherit\; font-variant-emoji: inherit\; font-stretch: inherit\; line-height: inherit\; font-optical-sizing: inherit\; font-size-adjust: inherit\; font-kerning: inherit\; font-feature-settings: inherit\; font-variation-settings: inherit\; font-language-override: inherit\; vertical-align: baseline\; font-family: Urbanist\; font-size: 13px\; font-style: normal\; font-weight: 400\; color: rgb(74\, 74\, 74)\; letter-spacing: normal\; orphans: 2\; text-align: start\; text-indent: 0px\; text-transform: none\; widows: 2\; word-spacing: 0px\; -webkit-text-stroke-width: 0px\; white-space: normal\; background-color: rgb(255\, 255\, 255)\; text-decoration-thickness: initial\; text-decoration-style: initial\; text-decoration-color: initial\; list-style-position: inside\;"><li style="box-sizing: border-box\; margin: 0px\; padding: 0px\; border: 0px\; outline: 0px\; font-variant: inherit\; font-stretch: inherit\; line-height: inherit\; font-optical-sizing: inherit\; font-size-adjust: inherit\; font-kerning: inherit\; font-feature-settings: inherit\; font-variation-settings: inherit\; font-language-override: inherit\; vertical-align: baseline\; font-family: Arial\, Helvetica\, sans-serif\; font-size: 14px\; font-style: inherit\; font-weight: inherit\; color: rgb(0\, 0\, 0)\;"><span open="" style="box-sizing: border-box\; margin: 0px\; padding: 0px\; border: 0px\; outline: 0px\; font-variant: inherit\; font-stretch: inherit\; line-height: inherit\; font-optical-sizing: inherit\; font-size-adjust: inherit\; font-kerning: inherit\; font-feature-settings: inherit\; font-variation-settings: inherit\; font-language-override: inherit\; vertical-align: baseline\; font-style: inherit\; font-weight: inherit\;">(1) 10x10 Booth Space &nbsp\;</span></li><li style="box-sizing: border-box\; margin: 0px\; padding: 0px\; border: 0px\; outline: 0px\; font-variant: inherit\; font-stretch: inherit\; line-height: inherit\; font-optical-sizing: inherit\; font-size-adjust: inherit\; font-kerning: inherit\; font-feature-settings: inherit\; font-variation-settings: inherit\; font-language-override: inherit\; vertical-align: baseline\; font-family: Arial\, Helvetica\, sans-serif\; font-size: 14px\; font-style: inherit\; font-weight: inherit\; color: rgb(0\, 0\, 0)\;"><span open="" style="box-sizing: border-box\; margin: 0px\; padding: 0px\; border: 0px\; outline: 0px\; font-variant: inherit\; font-stretch: inherit\; line-height: inherit\; font-optical-sizing: inherit\; font-size-adjust: inherit\; font-kerning: inherit\; font-feature-settings: inherit\; font-variation-settings: inherit\; font-language-override: inherit\; vertical-align: baseline\; font-style: inherit\; font-weight: inherit\;">2 Vendor Passes &nbsp\;</span></li><li style="box-sizing: border-box\; margin: 0px\; padding: 0px\; border: 0px\; outline: 0px\; font-variant: inherit\; font-stretch: inherit\; line-height: inherit\; font-optical-sizing: inherit\; font-size-adjust: inherit\; font-kerning: inherit\; font-feature-settings: inherit\; font-variation-settings: inherit\; font-language-override: inherit\; vertical-align: baseline\; font-family: Arial\, Helvetica\, sans-serif\; font-size: 14px\; font-style: inherit\; font-weight: inherit\; color: rgb(0\, 0\, 0)\;"><span open="" style="box-sizing: border-box\; margin: 0px\; padding: 0px\; border: 0px\; outline: 0px\; font-variant: inherit\; font-stretch: inherit\; line-height: inherit\; font-optical-sizing: inherit\; font-size-adjust: inherit\; font-kerning: inherit\; font-feature-settings: inherit\; font-variation-settings: inherit\; font-language-override: inherit\; vertical-align: baseline\; font-style: inherit\; font-weight: inherit\;">(1) non-dedicated social media post or story thanking all Community Supporters</span></li></ul><p style="box-sizing: border-box\; margin: 0px 0px 1rem\; padding: 0px\; border: 0px\; outline: 0px\; font-variant-ligatures: normal\; font-variant-caps: normal\; font-variant-numeric: inherit\; font-variant-east-asian: inherit\; font-variant-alternates: inherit\; font-variant-position: inherit\; font-variant-emoji: inherit\; font-stretch: inherit\; line-height: inherit\; font-optical-sizing: inherit\; font-size-adjust: inherit\; font-kerning: inherit\; font-feature-settings: inherit\; font-variation-settings: inherit\; font-language-override: inherit\; vertical-align: baseline\; font-family: Urbanist\; font-size: 13px\; font-style: normal\; font-weight: 400\; color: rgb(74\, 74\, 74)\; letter-spacing: normal\; orphans: 2\; text-align: start\; text-indent: 0px\; text-transform: none\; widows: 2\; word-spacing: 0px\; -webkit-text-stroke-width: 0px\; white-space: normal\; background-color: rgb(255\, 255\, 255)\; text-decoration-thickness: initial\; text-decoration-style: initial\; text-decoration-color: initial\;"><span style="color: rgb(0\, 0\, 0)\;"><span style="font-family: Arial\,Helvetica\,sans-serif\;"><span style="font-size: 14px\;"><strong fr-original-style="box-sizing: border-box\; margin: 0px\; padding: 0px\; border: 0px\; outline: 0px\; font-variant: inherit\; font-stretch: inherit\; line-height: inherit\; font-optical-sizing: inherit\; font-size-adjust: inherit\; font-kerning: inherit\; font-feature-settings: inherit\; font-variation-settings: inherit\; font-language-override: inherit\; vertical-align: baseline\; font-family: inherit\; font-size: 13px\; font-style: inherit\; font-weight: 700\;" style="box-sizing: border-box\; margin: 0px\; padding: 0px\; border: 0px\; outline: 0px\; font-variant: inherit\; font-stretch: inherit\; line-height: inherit\; font-optical-sizing: inherit\; font-size-adjust: inherit\; font-kerning: inherit\; font-feature-settings: inherit\; font-variation-settings: inherit\; font-language-override: inherit\; vertical-align: baseline\; font-family: inherit\; font-size: 13px\; font-style: inherit\; font-weight: 700\;"><u style="box-sizing: border-box\; margin: 0px\; padding: 0px\; border: 0px\; outline: 0px\; font-variant: inherit\; font-stretch: inherit\; line-height: inherit\; font-optical-sizing: inherit\; font-size-adjust: inherit\; font-kerning: inherit\; font-feature-settings: inherit\; font-variation-settings: inherit\; font-language-override: inherit\; vertical-align: baseline\; font-family: inherit\; font-size: 13px\; font-style: inherit\; font-weight: inherit\;">Vendor Plus Booth Registration Includes:</u></strong></span></span></span></p><ul fr-original-style="box-sizing: border-box\; margin: 0px 0px 1rem 20px\; padding: 0px\; border: 0px\; outline: 0px\; font-variant-ligatures: normal\; font-variant-caps: normal\; font-variant-numeric: inherit\; font-variant-east-asian: inherit\; font-variant-alternates: inherit\; font-variant-position: inherit\; font-variant-emoji: inherit\; font-stretch: inherit\; line-height: inherit\; font-optical-sizing: inherit\; font-size-adjust: inherit\; font-kerning: inherit\; font-feature-settings: inherit\; font-variation-settings: inherit\; font-language-override: inherit\; vertical-align: baseline\; font-family: Urbanist\; font-size: 13px\; font-style: normal\; font-weight: 400\; color: rgb(74\, 74\, 74)\; letter-spacing: normal\; orphans: 2\; text-align: start\; text-indent: 0px\; text-transform: none\; widows: 2\; word-spacing: 0px\; -webkit-text-stroke-width: 0px\; white-space: normal\; background-color: rgb(255\, 255\, 255)\; text-decoration-thickness: initial\; text-decoration-style: initial\; text-decoration-color: initial\; list-style-position: inside\;" style="box-sizing: border-box\; margin: 0px 0px 1rem 20px\; padding: 0px\; border: 0px\; outline: 0px\; font-variant-ligatures: normal\; font-variant-caps: normal\; font-variant-numeric: inherit\; font-variant-east-asian: inherit\; font-variant-alternates: inherit\; font-variant-position: inherit\; font-variant-emoji: inherit\; font-stretch: inherit\; line-height: inherit\; font-optical-sizing: inherit\; font-size-adjust: inherit\; font-kerning: inherit\; font-feature-settings: inherit\; font-variation-settings: inherit\; font-language-override: inherit\; vertical-align: baseline\; font-family: Urbanist\; font-size: 13px\; font-style: normal\; font-weight: 400\; color: rgb(74\, 74\, 74)\; letter-spacing: normal\; orphans: 2\; text-align: start\; text-indent: 0px\; text-transform: none\; widows: 2\; word-spacing: 0px\; -webkit-text-stroke-width: 0px\; white-space: normal\; background-color: rgb(255\, 255\, 255)\; text-decoration-thickness: initial\; text-decoration-style: initial\; text-decoration-color: initial\; list-style-position: inside\;"><li style="box-sizing: border-box\; margin: 0px\; padding: 0px\; border: 0px\; outline: 0px\; font-variant: inherit\; font-stretch: inherit\; line-height: inherit\; font-optical-sizing: inherit\; font-size-adjust: inherit\; font-kerning: inherit\; font-feature-settings: inherit\; font-variation-settings: inherit\; font-language-override: inherit\; vertical-align: baseline\; font-family: Arial\, Helvetica\, sans-serif\; font-size: 14px\; font-style: inherit\; font-weight: inherit\; color: rgb(0\, 0\, 0)\;">(1) 10x10 Booth Space</li><li style="box-sizing: border-box\; margin: 0px\; padding: 0px\; border: 0px\; outline: 0px\; font-variant: inherit\; font-stretch: inherit\; line-height: inherit\; font-optical-sizing: inherit\; font-size-adjust: inherit\; font-kerning: inherit\; font-feature-settings: inherit\; font-variation-settings: inherit\; font-language-override: inherit\; vertical-align: baseline\; font-family: Arial\, Helvetica\, sans-serif\; font-size: 14px\; font-style: inherit\; font-weight: inherit\; color: rgb(0\, 0\, 0)\;">4 Vendor Passes</li><li style="box-sizing: border-box\; margin: 0px\; padding: 0px\; border: 0px\; outline: 0px\; font-variant: inherit\; font-stretch: inherit\; line-height: inherit\; font-optical-sizing: inherit\; font-size-adjust: inherit\; font-kerning: inherit\; font-feature-settings: inherit\; font-variation-settings: inherit\; font-language-override: inherit\; vertical-align: baseline\; font-family: Arial\, Helvetica\, sans-serif\; font-size: 14px\; font-style: inherit\; font-weight: inherit\; color: rgb(0\, 0\, 0)\;">Curated Beer Pairing to drive traffic to your area (your team handles pouring)</li><li style="box-sizing: border-box\; margin: 0px\; padding: 0px\; border: 0px\; outline: 0px\; font-variant: inherit\; font-stretch: inherit\; line-height: inherit\; font-optical-sizing: inherit\; font-size-adjust: inherit\; font-kerning: inherit\; font-feature-settings: inherit\; font-variation-settings: inherit\; font-language-override: inherit\; vertical-align: baseline\; font-family: Arial\, Helvetica\, sans-serif\; font-size: 14px\; font-style: inherit\; font-weight: inherit\; color: rgb(0\, 0\, 0)\;">(1) non-dedicated social media post or story thanking all Community Supporters</li></ul></body></html>
LOCATION:10434 Watterson Trail Jeffersontown 40299
UID:e.3378.1384436
SEQUENCE:3
DTSTAMP:20260422T103100Z
URL:https://chamber.jtownchamber.com/chamber-events/Details/2026-the-big-pour-jtown-1634602?sourceTypeId=Hub
END:VEVENT
END:VCALENDAR
